BEGIN:VCALENDAR
VERSION:2.0
PRODID:-//hacksw/handcal//NONSGML v1.0//EN
BEGIN:VEVENT
SUMMARY:la Saint-Affricaine
UID:dc1c455a-0ed1-4ee5-af95-0129157e3088
DTSTART:20260426T050000Z
DTEND:20260426T120000Z
LOCATION:Localisation Bd Aristide Briand 12400 saint-affrique
CATEGORIES:Sportif
STATUS:
DESCRIPTION:<p>La Saint-Affricaine : Volem pedalar al
 pais</p>
 
 <p>Belle rando sur les causses de l'Aveyron avec un club
 qui es experimente aux manettes </p>
 
 <p>Au programme :</p>
 
 <p>- 20
 km avec 400 dev+</p>
 
 <p>- 40 km avec 1000 dev+</p>
 
 <p>- 60 km avec
 1400 dev+</p>
 
 <p>- 70 km avec 1600 dev+</p>
 
 <p>- rando pedestre
 matin 12km avec 378 dev + et 10 aprem avec 290 dev+</p>
 
 <p>Les
 departs sont a 9h00, possible jusqu'a 10h00</p>
 
 <p>Frais
 d'inscription  10€ pedestre et 20km, 15€ pour les autres
 circuits (12€ pour les licencies FFCT)</p>
 
 <p>Lien pour les
 preinscription : <a
 href="https://www.helloasso.com/associations/velo-tourisme-saint-affricain/evenements/saint-affricaine-2026"
 target="_blank" rel="noreferrer
 noopener">inscription</a></p>
 
 <p>Retrait des dossards la veille de
 14 a 19h00 ou le jour meme de 7 a 9h00.</p>
URL;VALUE=URI:https://www.racmireval.com/evenements/2026/04/26/la-saint-affricaine-2398127
END:VEVENT
END:VCALENDAR
