BEGIN:VCALENDAR
VERSION:2.0
PRODID:-//hacksw/handcal//NONSGML v1.0//EN
BEGIN:VEVENT
SUMMARY:La velo vin'oc
UID:c5ddc006-0a35-4295-bf01-0f5484c22749
DTSTART:20260502T083000Z
DTEND:20260502T130000Z
LOCATION:Localisation   
CATEGORIES:Manifestation
STATUS:
URL;VALUE=URI:https://www.racmireval.com/evenements/2026/05/02/la-velo-vinoc-2437140
END:VEVENT
END:VCALENDAR
