BEGIN:VCALENDAR
VERSION:2.0
PRODID:-//hacksw/handcal//NONSGML v1.0//EN
BEGIN:VEVENT
SUMMARY:Les Drailhes du diable
UID:10cbe7b6-6145-416e-8799-2019522a49db
DTSTART:20260510T050000Z
DTEND:20260510T080000Z
LOCATION:Localisation Parking du Pont du Diable 34 Aniane
CATEGORIES:Sportif
STATUS:
DESCRIPTION:<p>VTTAE (VTT Electriques) acceptes sur les parcours,
 Inscription possible sur place le jour meme, Une plaque-velo remise a
 chaque participant, Buvette et restauration a l'arrivee, Pas de
 gobelet aux ravitaillements (apporter gourde ou eco-cup), Une Tombola
 est organisee</p>
 
 <table>
 	<tbody>
 		<tr>
 			<td>Kms des parcours
 VTT</td>
 			<td>
 			<p>10, 29, 46, 53,
 65</p>
 			</td>
 		</tr>
 	</tbody>
 </table>
 
 <table>
 	<tbody>
 		<tr>
 			<td>Kms
 des parcours GRAVEL</td>
 			<td>52 et 73
 km</td>
 		</tr>
 	</tbody>
 </table>
 
 <p>Inscriptions 15 euros</p>
URL;VALUE=URI:https://www.racmireval.com/evenements/2026/05/10/les-drailhes-du-diable-2441876
END:VEVENT
END:VCALENDAR
